BEGIN:VCALENDAR
VERSION:2.0
PRODID:-//Het Floreshuis - ECPv6.15.20//NONSGML v1.0//EN
CALSCALE:GREGORIAN
METHOD:PUBLISH
X-WR-CALNAME:Het Floreshuis
X-ORIGINAL-URL:https://floreshuis.nl
X-WR-CALDESC:Evenementen voor Het Floreshuis
REFRESH-INTERVAL;VALUE=DURATION:PT1H
X-Robots-Tag:noindex
X-PUBLISHED-TTL:PT1H
BEGIN:VTIMEZONE
TZID:Europe/Paris
BEGIN:DAYLIGHT
TZOFFSETFROM:+0100
TZOFFSETTO:+0200
TZNAME:CEST
DTSTART:20230326T010000
END:DAYLIGHT
BEGIN:STANDARD
TZOFFSETFROM:+0200
TZOFFSETTO:+0100
TZNAME:CET
DTSTART:20231029T010000
END:STANDARD
BEGIN:DAYLIGHT
TZOFFSETFROM:+0100
TZOFFSETTO:+0200
TZNAME:CEST
DTSTART:20240331T010000
END:DAYLIGHT
BEGIN:STANDARD
TZOFFSETFROM:+0200
TZOFFSETTO:+0100
TZNAME:CET
DTSTART:20241027T010000
END:STANDARD
BEGIN:DAYLIGHT
TZOFFSETFROM:+0100
TZOFFSETTO:+0200
TZNAME:CEST
DTSTART:20250330T010000
END:DAYLIGHT
BEGIN:STANDARD
TZOFFSETFROM:+0200
TZOFFSETTO:+0100
TZNAME:CET
DTSTART:20251026T010000
END:STANDARD
END:VTIMEZONE
BEGIN:VEVENT
DTSTART;TZID=Europe/Paris:20241109T140000
DTEND;TZID=Europe/Paris:20241109T160000
DTSTAMP:20260421T162845
CREATED:20241024T140645Z
LAST-MODIFIED:20241029T141937Z
UID:10000235-1731160800-1731168000@floreshuis.nl
SUMMARY:Pimp je kleding met Peet
DESCRIPTION:Geef je oude kleding weer een kans! Heb jij ook kleding in de kast liggen die je niet meer draagt maar wat je ook niet weg wilt doen omdat het nog te mooi is? Iedere tweede zaterdag van de maand kan je bij ons terecht om je kleding op te pimpen. Wij zorgen voor materiaal\, versiersels en naaimachines. Er is ook iemand aanwezig met kennis en kunde om te helpen. Wil jij hier graag bij zijn? Meld je dan nu aan bij Petra: p.vanderstarre@floreshuis.nl. Je hoeft niet te betalen voor deelname en bij genoeg aanmeldingen kan de activiteit doorgaan 🙂 \nOnderstaand twee voorbeelden wat je zoal kan verwachten:
URL:https://floreshuis.nl/evenementenkalender/pimp-je-kleding-met-peet-3/
LOCATION:Het Floreshuis\, Floresplein 19\, Groningen\, Groningen\, 9715 HH\, Nederland
ATTACH;FMTTYPE=image/jpeg:https://floreshuis.nl/wp-content/uploads/2024/10/20241001_130017-scaled.jpg
END:VEVENT
BEGIN:VEVENT
DTSTART;TZID=Europe/Paris:20241109T100000
DTEND;TZID=Europe/Paris:20241109T150000
DTSTAMP:20260421T162845
CREATED:20241104T122309Z
LAST-MODIFIED:20241104T122309Z
UID:10000236-1731146400-1731164400@floreshuis.nl
SUMMARY:Puzzeltocht door de wijk
DESCRIPTION:Ben jij goed in speuren en puzzelen? Haal dan de puzzeltocht op in het Floreshuis en vindt het verborgen woord.\nGeschikt voor kinderen vanaf 8 jaar met hulp van en onder begeleiding van ouder(s).\nHeb je het woord gevonden  dan is je prijs een lekkere pannenkoek.
URL:https://floreshuis.nl/evenementenkalender/puzzeltocht-door-de-wijk/
LOCATION:Het Floreshuis\, Floresplein 19\, Groningen\, Groningen\, 9715 HH\, Nederland
ATTACH;FMTTYPE=image/png:https://floreshuis.nl/wp-content/uploads/2024/11/Puzzeltocht.png
END:VEVENT
BEGIN:VEVENT
DTSTART;TZID=Europe/Paris:20241102T140000
DTEND;TZID=Europe/Paris:20241102T160000
DTSTAMP:20260421T162845
CREATED:20241023T075226Z
LAST-MODIFIED:20241029T142012Z
UID:10000228-1730556000-1730563200@floreshuis.nl
SUMMARY:Pimp je kleding met Peet
DESCRIPTION:Geef je oude kleding weer een kans! Heb jij ook kleding in de kast liggen die je niet meer draagt maar wat je ook niet weg wilt doen omdat het nog te mooi is? Iedere tweede zaterdag van de maand kan je bij ons terecht om je kleding op te pimpen. Wij zorgen voor materiaal\, versiersels en naaimachines. Er is ook iemand aanwezig met kennis en kunde om te helpen. Wil jij hier graag bij zijn? Meld je dan nu aan bij Petra: p.vanderstarre@floreshuis.nl. Je hoeft niet te betalen voor deelname en bij genoeg aanmeldingen kan de activiteit doorgaan 🙂 \nOnderstaand twee voorbeelden wat je zoal kan verwachten:
URL:https://floreshuis.nl/evenementenkalender/pimp-je-kleding-met-peet-2/
LOCATION:Het Floreshuis\, Floresplein 19\, Groningen\, Groningen\, 9715 HH\, Nederland
ATTACH;FMTTYPE=image/jpeg:https://floreshuis.nl/wp-content/uploads/2024/10/20241001_130017-scaled.jpg
END:VEVENT
BEGIN:VEVENT
DTSTART;TZID=Europe/Paris:20241101T200000
DTEND;TZID=Europe/Paris:20241101T230000
DTSTAMP:20260421T162845
CREATED:20240919T080626Z
LAST-MODIFIED:20240919T080626Z
UID:10000224-1730491200-1730502000@floreshuis.nl
SUMMARY:Floreshuis LIVE: Juno's Valley
DESCRIPTION:Ze stonden al eerder op het podium tijdens FloreshuisLIVE: alternatieve rockband Juno’s Valley!\nZet je schrap voor een sterke mix van punk\, metal en rock!\n\n\n\n 
URL:https://floreshuis.nl/evenementenkalender/floreshuis-live-junos-valley-2/
LOCATION:Het Floreshuis\, Floresplein 19\, Groningen\, Groningen\, 9715 HH\, Nederland
ATTACH;FMTTYPE=image/jpeg:https://floreshuis.nl/wp-content/uploads/2024/09/JunosValleyLogo_remastered.jpg
END:VEVENT
BEGIN:VEVENT
DTSTART;TZID=Europe/Paris:20241026T190000
DTEND;TZID=Europe/Paris:20241026T223000
DTSTAMP:20260421T162845
CREATED:20241023T081308Z
LAST-MODIFIED:20241023T081308Z
UID:10000234-1729969200-1729981800@floreshuis.nl
SUMMARY:Multiculturele soosavond voor vrouwen
DESCRIPTION:
URL:https://floreshuis.nl/evenementenkalender/multiculturele-soosavond-voor-vrouwen/
LOCATION:Het Floreshuis\, Floresplein 19\, Groningen\, Groningen\, 9715 HH\, Nederland
ATTACH;FMTTYPE=image/jpeg:https://floreshuis.nl/wp-content/uploads/2024/10/WhatsApp-Image-2024-10-21-at-17.41.04.jpeg
END:VEVENT
BEGIN:VEVENT
DTSTART;TZID=Europe/Paris:20241025T190000
DTEND;TZID=Europe/Paris:20241025T230000
DTSTAMP:20260421T162845
CREATED:20241002T063149Z
LAST-MODIFIED:20241002T074232Z
UID:10000225-1729882800-1729897200@floreshuis.nl
SUMMARY:Double feature: Halloween editie pubquiz & karaoke- dance
DESCRIPTION:Dit keer maakt Ferdinand Stam weer eens de pubquiz. Deze keer een speciale editie: De Halloween editite. Kom verkleed en win de prijs voor beste kostuum! Aansluitend is er ook een dans en karaoke-avond. Wederom leuk als je verkleed bent 🙂 Opgeven is niet nodig\, iedereen is welkom! De Pubquiz is van 19:00 – 21:oo uur en vanaf 21:00 uur begint de dansavond.
URL:https://floreshuis.nl/evenementenkalender/double-feature-halloween-editie-pubquiz-karaoke-dance/
LOCATION:Het Floreshuis\, Floresplein 19\, Groningen\, Groningen\, 9715 HH\, Nederland
ATTACH;FMTTYPE=image/jpeg:https://floreshuis.nl/wp-content/uploads/2024/10/Halloweenpubquiz.jpg
END:VEVENT
BEGIN:VEVENT
DTSTART;TZID=Europe/Paris:20241019T110000
DTEND;TZID=Europe/Paris:20241019T150000
DTSTAMP:20260421T162845
CREATED:20241003T114509Z
LAST-MODIFIED:20241009T080225Z
UID:10000230-1729335600-1729350000@floreshuis.nl
SUMMARY:Maak je eigen Halloween pompoen
DESCRIPTION:Kom langs op zaterdag om je eigen Halloween pompoen te maken! Leuk voor jong en oud:) Wij zorgen voor materiaal en pompoenen. Je hoeft voor deze activiteit niet te betalen en je hoeft je ook niet op te geven. Van de inhoud zal lekkere pompoensoep gemaakt worden.
URL:https://floreshuis.nl/evenementenkalender/maak-je-eigen-halloween-pompoen/
LOCATION:Het Floreshuis\, Floresplein 19\, Groningen\, Groningen\, 9715 HH\, Nederland
ATTACH;FMTTYPE=image/jpeg:https://floreshuis.nl/wp-content/uploads/2024/10/pompoen-3.jpg
END:VEVENT
BEGIN:VEVENT
DTSTART;TZID=Europe/Paris:20241012T140000
DTEND;TZID=Europe/Paris:20241012T160000
DTSTAMP:20260421T162845
CREATED:20241003T113627Z
LAST-MODIFIED:20241003T113627Z
UID:10000227-1728741600-1728748800@floreshuis.nl
SUMMARY:Pimp je kleding met Peet
DESCRIPTION:Geef je oude kleding weer een kans! Heb jij ook kleding in de kast liggen die je niet meer draagt maar wat je ook niet weg wilt doen omdat het nog te mooi is? Iedere tweede zaterdag van de maand kan je bij ons terecht om je kleding op te pimpen. Wij zorgen voor materiaal\, versiersels en naaimachines. Er is ook iemand aanwezig met kennis en kunde om te helpen. Wil jij hier graag bij zijn? Meld je dan nu aan bij Petra: p.vanderstarre@floreshuis.nl. Je hoeft niet te betalen voor deelname en bij genoeg aanmeldingen kan de activiteit doorgaan 🙂 \nOnderstaand twee voorbeelden wat je zoal kan verwachten:
URL:https://floreshuis.nl/evenementenkalender/pimp-je-kleding-met-peet/2024-10-12/
LOCATION:Het Floreshuis\, Floresplein 19\, Groningen\, Groningen\, 9715 HH\, Nederland
ATTACH;FMTTYPE=image/jpeg:https://floreshuis.nl/wp-content/uploads/2024/10/20241001_130017-scaled.jpg
END:VEVENT
BEGIN:VEVENT
DTSTART;TZID=Europe/Paris:20241011T190000
DTEND;TZID=Europe/Paris:20241011T210000
DTSTAMP:20260421T162845
CREATED:20240919T074843Z
LAST-MODIFIED:20240919T074843Z
UID:10000222-1728673200-1728680400@floreshuis.nl
SUMMARY:Circus Karnivoale
DESCRIPTION:Wees welkom bij deze bijzondere voorstelling! \nLet op: Je hebt een kaartje nodig om hierbij te zijn. Inschrijven voor zo’n gratis kaartje kan tijdens onze wijnproeverij op vrijdag 20 september tussen 19:00 en 20:00 uur. \nKarnivoale (spreek uit op z’n Grunnegers: ‘Karni-vólle’): een vrolijk muziekspektakel gebaseerd op de rondtrekkende circussen in het Amerika van een eeuw geleden. Met de Bekende Groningers Frank den Hollander\, Alina Kiers\, Harry Niehof\, Jan Veldman\, Carmen Schilstra en André Gubbels.
URL:https://floreshuis.nl/evenementenkalender/circus-karnivoale/
LOCATION:Het Floreshuis\, Floresplein 19\, Groningen\, Groningen\, 9715 HH\, Nederland
ATTACH;FMTTYPE=image/jpeg:https://floreshuis.nl/wp-content/uploads/2024/09/Karnivoale-affiche.jpg
END:VEVENT
BEGIN:VEVENT
DTSTART;TZID=Europe/Paris:20240927T170000
DTEND;TZID=Europe/Paris:20240927T220000
DTSTAMP:20260421T162845
CREATED:20240916T141438Z
LAST-MODIFIED:20240923T101552Z
UID:10000221-1727456400-1727474400@floreshuis.nl
SUMMARY:Burendag
DESCRIPTION:Ieder jaar is er ergens eind september een burendag. Dit jaar vieren wij het op vrijdag 27 september. Om 17:00 uur kan je gezellig spelletjes komen doen. Vanaf 19:00 uur begint de open dance van Sugar spin (Lindy hop). Wat kan je verwachten? Energieke dans op de waanzinnige jazzmuziek die ontstond in de jaren ’30 en ’40 van de vorige eeuw. Artiesten als Ella Fitzgerald\, Louis Armstrong en Duke Ellington zorgen met hun vrijheid\, speelsheid en energie voor een actieve en sociale workout. Kom gezellig langs en dans mee! \n 
URL:https://floreshuis.nl/evenementenkalender/burendag/
LOCATION:Het Floreshuis\, Floresplein 19\, Groningen\, Groningen\, 9715 HH\, Nederland
ATTACH;FMTTYPE=image/jpeg:https://floreshuis.nl/wp-content/uploads/2024/09/thumbnail_cb5789_7e527fc908fc438d8a3f2d46e1546b0emv8.jpg
END:VEVENT
END:VCALENDAR