BEGIN:VCALENDAR
VERSION:2.0
PRODID:-//Het Floreshuis - ECPv6.15.20//NONSGML v1.0//EN
CALSCALE:GREGORIAN
METHOD:PUBLISH
X-ORIGINAL-URL:https://floreshuis.nl
X-WR-CALDESC:Evenementen voor Het Floreshuis
REFRESH-INTERVAL;VALUE=DURATION:PT1H
X-Robots-Tag:noindex
X-PUBLISHED-TTL:PT1H
BEGIN:VTIMEZONE
TZID:Europe/Paris
BEGIN:DAYLIGHT
TZOFFSETFROM:+0100
TZOFFSETTO:+0200
TZNAME:CEST
DTSTART:20250330T010000
END:DAYLIGHT
BEGIN:STANDARD
TZOFFSETFROM:+0200
TZOFFSETTO:+0100
TZNAME:CET
DTSTART:20251026T010000
END:STANDARD
BEGIN:DAYLIGHT
TZOFFSETFROM:+0100
TZOFFSETTO:+0200
TZNAME:CEST
DTSTART:20260329T010000
END:DAYLIGHT
BEGIN:STANDARD
TZOFFSETFROM:+0200
TZOFFSETTO:+0100
TZNAME:CET
DTSTART:20261025T010000
END:STANDARD
BEGIN:DAYLIGHT
TZOFFSETFROM:+0100
TZOFFSETTO:+0200
TZNAME:CEST
DTSTART:20270328T010000
END:DAYLIGHT
BEGIN:STANDARD
TZOFFSETFROM:+0200
TZOFFSETTO:+0100
TZNAME:CET
DTSTART:20271031T010000
END:STANDARD
END:VTIMEZONE
BEGIN:VEVENT
DTSTART;TZID=Europe/Paris:20260313T200000
DTEND;TZID=Europe/Paris:20260313T223000
DTSTAMP:20260421T193016
CREATED:20260305T083918Z
LAST-MODIFIED:20260305T083919Z
UID:10000906-1773432000-1773441000@floreshuis.nl
SUMMARY:Buur en Boek
DESCRIPTION:Buur&Boek: literatuur verbindt \n\n\n\nSinds oktober 2025 komen Groninger buurtgenoten op vijf locaties in Stad en provincie samen rond literatuur. In tweewekelijkse bijeenkomsten lezen en bespreken deelnemers verhalen en gedichten\, delen ze hun ervaringen en werken ze aan eigen teksten. Buur & Boek is een project van NOORDWOORD en Arts in Health Nederland. \n\n\n\nDe vijf groepen in actie\n\n\n\nIn de Korrewegwijk\, Beijum\, Finsterwolde\, Noordlaren en Feerwerd zijn inmiddels vijf hechte groepen ontstaan. Onder begeleiding van ervaren gespreksleiders ontdekken de deelnemers samen literatuur\, voeren ze betekenisvolle gesprekken met elkaar en reflecteren ze op wat ze lezen en beleven. De sfeer? “Een warm bad\,” aldus een van de workshopleiders. “Mensen zijn open\, lief en respectvol.” \n\n\n\nMinifestivals\n\n\n\nIn maart 2026 wordt de eerste editie van Buur & Boek met vier feestelijke minifestivals gevierd. Deelnemers presenteren hun werk\, professionele auteurs treden op en er is ruimte voor ontmoeting. Iedereen is welkom; ook (of juist zelfs!) als je niet hebt deelgenomen aan de bijeenkomsten. In mei of juni zal er nog een vijfde minifestival plaatsvinden in Feerwerd. Omdat deze groep later is gestart\, vindt ook het festival op een later moment plaats. \n\n\n\nPraktische informatie minifestivals\n\n\n\nInloop 19.45 uur – aanvang 20.15 uur  | Gratis toegangMet o.a. auteur Lucas Zandberg\, Jaimy Hindriks\, Guillaume Pool\, muziek van Tamar & open mic
URL:https://floreshuis.nl/evenementenkalender/buur-en-boek/
ATTACH;FMTTYPE=image/png:https://floreshuis.nl/wp-content/uploads/2026/03/Screenshot-2026-03-05-at-09-30-23-Buur-Boek-NOORDWOORD.png
END:VEVENT
END:VCALENDAR